BEGIN:VCALENDAR
VERSION:2.0
PRODID:-//ChamberMaster//Event Calendar 2.0//EN
METHOD:PUBLISH
X-PUBLISHED-TTL:P3D
REFRESH-INTERVAL:P3D
CALSCALE:GREGORIAN
BEGIN:VEVENT
DTSTART;VALUE=DATE:20200809
DTEND;VALUE=DATE:20200810
TRANSP:TRANSPARENT
X-MICROSOFT-CDO-ALLDAYEVENT:TRUE
SUMMARY:Auction
DESCRIPTION:Concessions & Bathrooms Onsite.
X-ALT-DESC;FMTTYPE=text/html:<br />\n<br />\n<font face="Arial"><b>Concessions &amp\; Bathrooms Onsite.</b></font><br />\n&nbsp\;
LOCATION:
UID:e.3499.411
SEQUENCE:3
DTSTAMP:20260421T231403Z
URL:https://business.pipestoneminnesota.com/events/details/auction-411
END:VEVENT

END:VCALENDAR
