BEGIN:VCALENDAR
VERSION:2.0
PRODID:-//ChamberMaster//Event Calendar 2.0//EN
METHOD:PUBLISH
X-PUBLISHED-TTL:P3D
REFRESH-INTERVAL:P3D
CALSCALE:GREGORIAN
BEGIN:VEVENT
DTSTART;VALUE=DATE:20201018
DTEND;VALUE=DATE:20201019
TRANSP:TRANSPARENT
X-MICROSOFT-CDO-ALLDAYEVENT:TRUE
SUMMARY:Auction
DESCRIPTION:AUCTIONEER NOTE:  This auction presents itself to be a great sportsman's\, antiques/collectibles auction. Will have variety and have something for everybody!! See you at the auction!! Click on website link above for details. \n\n\n\nConcessions & Bathrooms Onsite.
X-ALT-DESC;FMTTYPE=text/html:<b background-color:="" font-size:="" new="" style="color: rgb(0\, 0\, 0)\; font-family: " times=""><font face="Arial"><font color="#FF6600">AUCTIONEER NOTE:</font>&nbsp\; This auction presents itself to be a great sportsman&#39\;s\, antiques/collectibles auction. Will have variety and have something for everybody!! See you at the auction!!&nbsp\;Click on website link above for details.&nbsp\;</font></b><br />\n<br />\n<font face="Arial"><b>Concessions &amp\; Bathrooms Onsite.</b></font><br />\n&nbsp\;
LOCATION:
UID:e.3499.550
SEQUENCE:3
DTSTAMP:20260422T122418Z
URL:https://business.pipestoneminnesota.com/events/details/auction-550
END:VEVENT

END:VCALENDAR
