BEGIN:VCALENDAR
VERSION:2.0
PRODID:-//ChamberMaster//Event Calendar 2.0//EN
METHOD:PUBLISH
X-PUBLISHED-TTL:P3D
REFRESH-INTERVAL:P3D
CALSCALE:GREGORIAN
BEGIN:VEVENT
DTSTART:20200829T170000Z
DTEND:20200829T220000Z
X-MICROSOFT-CDO-ALLDAYEVENT:FALSE
SUMMARY:Barrel Racing - Race #4
DESCRIPTION:Pipestone Smokin Barrels will be hosting a barrel race on *August 29th* Notice date change due to scheduling conflict. Exhibitions start at 12:00 pm. Runs begin at 1:00 pm. Come cheer on the riders and their horses!
X-ALT-DESC;FMTTYPE=text/html:<span class="oi732d6d ik7dh3pa d2edcug0 hpfvmrgz qv66sw1b c1et5uql a8c37x1j muag1w35 ew0dbk1b jq4qci2q a3bd9o3v knj5qynh oo9gr5id" dir="auto">Pipestone Smokin Barrels will be hosting a barrel race on *August 29th* Notice date change due to scheduling conflict. Exhibitions start at 12:00 pm. Runs begin at 1:00 pm. Come cheer on the riders and their horses!</span>
LOCATION:Pipestone County Fairgrounds 501 10th Ave SE Pipestone\, MN 56164
UID:e.3499.428
SEQUENCE:3
DTSTAMP:20260421T231644Z
URL:https://business.pipestoneminnesota.com/events/details/barrel-racing-race-4-428
END:VEVENT

END:VCALENDAR
