BEGIN:VCALENDAR
VERSION:2.0
PRODID:-//ChamberMaster//Event Calendar 2.0//EN
METHOD:PUBLISH
X-PUBLISHED-TTL:P3D
REFRESH-INTERVAL:P3D
CALSCALE:GREGORIAN
BEGIN:VEVENT
DTSTART:20200209T013000Z
DTEND:20200209T033000Z
X-MICROSOFT-CDO-ALLDAYEVENT:FALSE
SUMMARY:Calumet Players "As Long As You Both Shall Live"
DESCRIPTION:"As Long As We Both Shall Live" by Sean Grennan\n\n\n\nComedic Murder Mystery: Quirky genius Addison Ashe has finally met a man who can keep up with her -- the wealthy and charming Jamie Wilcox. But marrying Jamie means wrangling with his disapproving mother\, as well as her favorite over-the-top wedding planner\, Raul. When Raul is poisoned at the rehearsal dinner\, tensions between the clever bride and her mother-in-law to be go from heated to full-on inferno when Mrs. Wilcox points to Addison as the killer. Can Addison solve the case before sashaying down the aisle\, or is she in for a honeymoon behind bars?
X-ALT-DESC;FMTTYPE=text/html:<font color="black"><span class="boldtext1"><span class="text1"><span>&quot\;As Long As We Both Shall Live&quot\; by Sean Grennan<br />\n<br />\nComedic Murder Mystery: Quirky genius Addison Ashe has finally met a man who can keep up with her -- the wealthy and charming Jamie Wilcox. But marrying Jamie means wrangling with his disapproving mother\, as well as her favorite over-the-top wedding planner\, Raul. When Raul is poisoned at the rehearsal dinner\, tensions between the clever bride and her mother-in-law to be go from heated to full-on inferno when Mrs. Wilcox points to Addison as the killer. Can Addison solve the case before sashaying down the aisle\, or is she in for a honeymoon behind bars?</span></span></span></font>
LOCATION:Pipestone Performing Arts Center\, 104 E Main Street\, Pipestone\, MN 56164
UID:e.3499.6
SEQUENCE:3
DTSTAMP:20260422T115245Z
URL:https://business.pipestoneminnesota.com/events/details/calumet-players-as-long-as-you-both-shall-live-6
END:VEVENT

END:VCALENDAR
