BEGIN:VCALENDAR
VERSION:2.0
PRODID:-//ChamberMaster//Event Calendar 2.0//EN
METHOD:PUBLISH
X-PUBLISHED-TTL:P3D
REFRESH-INTERVAL:P3D
CALSCALE:GREGORIAN
BEGIN:VEVENT
DTSTART;VALUE=DATE:20200816
DTEND;VALUE=DATE:20200817
TRANSP:TRANSPARENT
X-MICROSOFT-CDO-ALLDAYEVENT:TRUE
SUMMARY:CANCELLED: 4th Annual Kids' Fishing Derby & Movie at The Quarry Pond
DESCRIPTION:We're bringing this end-of-summer celebration back again in 2020. Over 80 kids ages 15 and under dipped their lines in the ol' quarry pond while competing for trophies and prizes given for first fish caught\, shortest fish\, lightest fish\, heaviest fish\, and longest fish. Exact start time and details to come\, however the fishing derby will be held in the early evening followed by a movie at dusk.\n\nHosted by Pipestone Area Chamber of Commerce\, Pipestone Kiwanis Club\, & City of Pipestone with the assistance of many community sponsors.
X-ALT-DESC;FMTTYPE=text/html:<p style="box-sizing: border-box\; margin: 0px 0px 10px\; color: rgb(85\, 85\, 85)\; font-family: Montserrat\, sans-serif\; font-size: 16px\;">We&#39\;re bringing this end-of-summer celebration back again in 2020. Over 80 kids ages 15 and under dipped their lines in the ol&#39\; quarry pond while competing for trophies and prizes given for first fish caught\, shortest fish\, lightest fish\, heaviest fish\, and longest fish. Exact start time and details to come\, however the fishing derby will be held in the early evening followed by a movie at dusk.</p>\n\n<p style="box-sizing: border-box\; margin: 0px 0px 10px\; color: rgb(85\, 85\, 85)\; font-family: Montserrat\, sans-serif\; font-size: 16px\;">Hosted by Pipestone Area Chamber of Commerce\, <span style="color: rgb(85\, 85\, 85)\; font-family: Montserrat\, sans-serif\; font-size: 16px\;">Pipestone Kiwanis Club\,&nbsp\;</span>&amp\; City of Pipestone with the assistance of many community sponsors.</p>\n
LOCATION:
UID:e.3499.98
SEQUENCE:3
DTSTAMP:20260422T011937Z
URL:https://business.pipestoneminnesota.com/events/details/cancelled-4th-annual-kids-fishing-derby-movie-at-the-quarry-pond-98
END:VEVENT

END:VCALENDAR
