BEGIN:VCALENDAR
VERSION:2.0
PRODID:-//ChamberMaster//Event Calendar 2.0//EN
METHOD:PUBLISH
X-PUBLISHED-TTL:P3D
REFRESH-INTERVAL:P3D
CALSCALE:GREGORIAN
BEGIN:VEVENT
DTSTART;VALUE=DATE:20200424
DTEND;VALUE=DATE:20200427
TRANSP:TRANSPARENT
X-MICROSOFT-CDO-ALLDAYEVENT:TRUE
SUMMARY:CANCELLED: Al Opland Singers "Traveling The World Through Music"
DESCRIPTION:
X-ALT-DESC;FMTTYPE=text/html:
LOCATION:
UID:e.3499.117
SEQUENCE:3
DTSTAMP:20260424T085653Z
URL:https://business.pipestoneminnesota.com/events/details/cancelled-al-opland-singers-traveling-the-world-through-music-117
END:VEVENT

END:VCALENDAR
