BEGIN:VCALENDAR
VERSION:2.0
PRODID:-//ChamberMaster//Event Calendar 2.0//EN
METHOD:PUBLISH
X-PUBLISHED-TTL:P3D
REFRESH-INTERVAL:P3D
CALSCALE:GREGORIAN
BEGIN:VEVENT
DTSTART:20200209T200000Z
DTEND:20200209T220000Z
X-MICROSOFT-CDO-ALLDAYEVENT:FALSE
SUMMARY:CANCELLED: Calumet Players "As Long As You Both Shall Live"
DESCRIPTION:SNOW CANCELLATION:  Due to weather The Calumet Players will be cancelling Sunday February 9th's 2pm show "As Long As We Both Shall Live" at The Pipestone Performing Arts Center. If you have purchased tickets please call the box office at 507-825-2020 to exchange them for another show next weekend. Thank you for understanding and stay safe!\n\n\n\n"As Long As We Both Shall Live" by Sean Grennan\n\n\n\nComedic Murder Mystery: Quirky genius Addison Ashe has finally met a man who can keep up with her -- the wealthy and charming Jamie Wilcox. But marrying Jamie means wrangling with his disapproving mother\, as well as her favorite over-the-top wedding planner\, Raul. When Raul is poisoned at the rehearsal dinner\, tensions between the clever bride and her mother-in-law to be go from heated to full-on inferno when Mrs. Wilcox points to Addison as the killer. Can Addison solve the case before sashaying down the aisle\, or is she in for a honeymoon behind bars?
X-ALT-DESC;FMTTYPE=text/html:<font style="color: rgb(0\, 0\, 0)\;">SNOW CANCELLATION:&nbsp\;&nbsp\;</font><span style="font-size: small\; color: rgb(34\, 34\, 34)\; font-family: Arial\, Helvetica\, sans-serif\;">Due to weather The Calumet Players will be cancelling Sunday February 9th&#39\;s 2pm show &ldquo\;As Long As We Both Shall Live&rdquo\; at The Pipestone Performing Arts Center. If you have purchased tickets please call the box office at 507-825-2020 to exchange them for another show next weekend. Thank you for understanding and stay safe!</span><br />\n<br />\n<font color="black"><span class="boldtext1"><span class="text1"><span>&quot\;As Long As We Both Shall Live&quot\; by Sean Grennan<br />\n<br />\nComedic Murder Mystery: Quirky genius Addison Ashe has finally met a man who can keep up with her -- the wealthy and charming Jamie Wilcox. But marrying Jamie means wrangling with his disapproving mother\, as well as her favorite over-the-top wedding planner\, Raul. When Raul is poisoned at the rehearsal dinner\, tensions between the clever bride and her mother-in-law to be go from heated to full-on inferno when Mrs. Wilcox points to Addison as the killer. Can Addison solve the case before sashaying down the aisle\, or is she in for a honeymoon behind bars?</span></span></span></font>
LOCATION:Pipestone Performing Arts Center\, 104 E Main Street\, Pipestone\, MN 56164
UID:e.3499.7
SEQUENCE:3
DTSTAMP:20260422T115235Z
URL:https://business.pipestoneminnesota.com/events/details/cancelled-calumet-players-as-long-as-you-both-shall-live-7
END:VEVENT

END:VCALENDAR
