BEGIN:VCALENDAR
VERSION:2.0
PRODID:-//ChamberMaster//Event Calendar 2.0//EN
METHOD:PUBLISH
X-PUBLISHED-TTL:P3D
REFRESH-INTERVAL:P3D
CALSCALE:GREGORIAN
BEGIN:VEVENT
DTSTART:20230729T160000Z
DTEND:20230729T190000Z
X-MICROSOFT-CDO-ALLDAYEVENT:FALSE
SUMMARY:Chamber Car Cruise-In
DESCRIPTION:2023 Car Dates:\n\nSaturday\, June 24\, 2023\, 10:00 AM - 3:00 PM:  Annual Car Show  Pipestone Cruizers will be hosting the annual Water Tower Festival Car Show next to the Courthouse during Water Tower Festival on Saturday\, June 24\, 2023\, from 10 AM - 3 PM. ($15 registration begins at 9 am). Awards will be given at 2 pm. Mylan Ray will be spinnin' music. Food\, Arts\, & Crafts will be available for purchase as well as free activities for children.\n\nSaturday\, July 29\, 2023\, 11:00 AM - 2:00 PM (Location - Stonehouse & Quarry Lounge in Historic Downtown Pipestone):  Car Cruise-In\n\nJoin the Chamber and the Pipestone Cruizers for Music and the first Chamber Car Cruise-In of Summer! Enjoy music and relaxation as you stroll amongst classic cars! Pipestone's Chamber Car Cruise-Ins feature show cars and hobby vehicles from local and regional enthusiasts. The events are FREE for everyone! The first 50 registered vehicles receive a FREE Chamber Car Cruise-In Dash Plate. Food will be available for purchase at Stonehouse & Quarry Lounge. Prize drawings are held throughout the events for all registered vehicles! Bring your car\, truck\, or motorcycle to this FREE event. LIVE MUSIC by "Southern Detour" (Southern & Classic Rock\, Blues\, and Country!).\n\n\n\nThursday\, August 24\, 2023\, 5:00 - 7:30 PM (Location - Hatfield Roadhouse):  Car Cruise-In\n\nJoin the Chamber and the Pipestone Cruizers as we take our show on the road to Hatfield! Enjoy music and relaxation as you stroll amongst classic cars! Pipestone's Chamber Car Cruise-Ins feature show cars and hobby vehicles from local and regional enthusiasts. The events are FREE for everyone! The first 50 registered vehicles receive a FREE Chamber Car Cruise-In Dash Plate. Food will be available for purchase at Stonehouse & Quarry Lounge. Prize drawings are held throughout the events for all registered vehicles! Bring your car\, truck\, or motorcycle to this FREE event. LIVE MUSIC by "Southern Detour" (Southern & Classic Rock\, Blues\, and Country!).\n\n \n\nThursday\, September 7\, 2023\, 5:00 - 7:30 PM (Location - Historic Downtown Pipestone):  Car Cruise-In\n\nJoin the Chamber and the Pipestone Cruizers for Music and the final Chamber Car Cruise-In of Summer! Enjoy music and relaxation as you stroll amongst classic cars! Pipestone's Chamber Car Cruise-Ins feature show cars and hobby vehicles from local and regional enthusiasts. The events are FREE for everyone! The first 50 registered vehicles receive a FREE Chamber Car Cruise-In Dash Plate. Food will be available for purchase at Stonehouse & Quarry Lounge. Prize drawings are held throughout the events for all registered vehicles! Bring your car\, truck\, or motorcycle to this FREE event. KISD DJ Mylan Ray will be bringing his "Car-Tunes" for your enjoyment!
X-ALT-DESC;FMTTYPE=text/html:<p><span style="font-size:18px\;"><strong>2023&nbsp\;Car Dates:</strong></span></p>\n\n<p><span style="font-size:18px\;"><strong>Saturday\, June 24\, 2023\, 10:00 AM - 3:00 PM:&nbsp\; Annual Car Show</strong> &nbsp\;Pipestone Cruizers will be hosting the <strong>annual Water Tower Festival Car Show</strong> next to the Courthouse during Water Tower Festival on Saturday\, June 24\, 2023\, from 10 AM - 3 PM. ($15&nbsp\;registration begins at 9 am). Awards will be given at 2 pm. Mylan Ray will be spinnin&#39\; music. Food\, Arts\, &amp\; Crafts will be available for purchase as well as free activities for children.</span></p>\n\n<div><strong style="font-size: 18px\;">Saturday\, July 29\, 2023</strong><span style="font-size: 18px\;">\, <strong>11</strong></span><strong style="font-size: 18px\;"><strong>:</strong>00 AM - 2:00 PM (Location - Stonehouse &amp\; Quarry Lounge in Historic Downtown Pipestone):&nbsp\;&nbsp\;Car Cruise-In</strong><br style="font-size: 18px\;" />\n<span style="font-size: 18px\;">Join the Chamber and the Pipestone Cruizers for Music and the first Chamber Car Cruise-In of Summer!&nbsp\;Enjoy music and relaxation as you stroll amongst classic cars! Pipestone&#39\;s Chamber Car Cruise-Ins feature show cars and hobby vehicles from local and regional enthusiasts. The events are FREE for everyone! The first 50 registered vehicles receive a FREE Chamber Car Cruise-In Dash Plate. Food will be&nbsp\;available for purchase at Stonehouse &amp\; Quarry Lounge. Prize drawings are held throughout the events for all registered vehicles! Bring your car\, truck\, or motorcycle to this FREE&nbsp\;event. <strong>LIVE MUSIC by &quot\;Southern Detour&quot\; (Southern &amp\; Classic Rock\, Blues\, and Country!)</strong>.<br />\n<br />\n<strong>Thursday\, August 24\, 2023\, 5:00 - 7:30 PM (Location - Hatfield Roadhouse):&nbsp\; Car Cruise-In</strong><br />\nJoin the Chamber and the Pipestone Cruizers as we take our show on the road to&nbsp\;Hatfield!</span><span style="font-size: 18px\;">&nbsp\;</span><span style="font-size: 18px\;">Enjoy music and relaxation as you stroll amongst classic cars! Pipestone&#39\;s Chamber Car Cruise-Ins feature show cars and hobby vehicles from local and regional enthusiasts. The events are FREE for everyone! The first 50 registered vehicles receive a FREE Chamber Car Cruise-In Dash Plate. Food will be</span><span style="font-size: 18px\;">&nbsp\;available for purchase at Stonehouse &amp\; Quarry Lounge</span><span style="font-size: 18px\;">. Prize drawings are held throughout the events for all registered vehicles!&nbsp\;</span><span style="font-size: 18px\;">Bring your car\, truck\, or motorcycle to this FREE</span><span style="font-size: 18px\;">&nbsp\;event.&nbsp\;</span><strong style="font-size: 18px\;">LIVE MUSIC by &quot\;Southern Detour&quot\; (Southern &amp\; Classic Rock\, Blues\, and Country!)</strong><span style="font-size: 18px\;">.</span></div>\n\n<div>&nbsp\;</div>\n\n<div><span style="font-size:18px\;"><strong>Thursday\, September 7\, 2023\, 5:00 - 7:30 PM (Location - Historic Downtown Pipestone):&nbsp\; Car Cruise-In</strong><br />\nJoin the Chamber and the Pipestone Cruizers for Music and the final&nbsp\;Chamber Car&nbsp\;</span><span style="font-size: 18px\;">Cruise-In of Summer!</span><span style="font-size: 18px\;">&nbsp\;</span><span style="font-size: 18px\;">Enjoy music and relaxation as you stroll amongst classic cars! Pipestone&#39\;s Chamber Car Cruise-Ins feature show cars and hobby vehicles from local and regional enthusiasts. The events are FREE for everyone! The first 50 registered vehicles receive a FREE Chamber Car Cruise-In Dash Plate. Food will be</span><span style="font-size: 18px\;">&nbsp\;available for purchase at Stonehouse &amp\; Quarry Lounge</span><span style="font-size: 18px\;">. Prize drawings are held throughout the events for all registered vehicles!&nbsp\;</span><span style="font-size: 18px\;">Bring your car\, truck\, or motorcycle to this FREE</span><span style="font-size:18px\;">&nbsp\;event. </span><strong style="font-size: 18px\;">KISD DJ Mylan Ray will be bringing his &quot\;Car-Tunes&quot\;</strong><span style="font-size:18px\;">&nbsp\;for your enjoyment!</span></div>\n
LOCATION:Stonehouse & Quarry Lounge
UID:e.3499.1773
SEQUENCE:3
DTSTAMP:20260420T155059Z
URL:https://business.pipestoneminnesota.com/events/details/chamber-car-cruise-in-1773
END:VEVENT

END:VCALENDAR
