BEGIN:VCALENDAR
VERSION:2.0
PRODID:-//ChamberMaster//Event Calendar 2.0//EN
METHOD:PUBLISH
X-PUBLISHED-TTL:P3D
REFRESH-INTERVAL:P3D
CALSCALE:GREGORIAN
BEGIN:VEVENT
DTSTART:20200116T133000Z
DTEND:20200116T143000Z
X-MICROSOFT-CDO-ALLDAYEVENT:FALSE
SUMMARY:Chamber Coffee - First Farmers & Merchants Bank
DESCRIPTION:Come meet Dave Thompson\, President of First Farmers & Merchants Bank in Pipestone.\n\n\n\n~Open to All Chamber Members and Their Employees~\n\n\n\nJoin your fellow Chamber Members for coffee\, conversation\, & networking.\n\n\n\nChamber Members can register for a chance to win the Chamber Networking Grand Prize.
X-ALT-DESC;FMTTYPE=text/html:<font color="black"><span class="boldtext1"><span class="text1"><span>Come meet Dave Thompson\, President of First Farmers &amp\; Merchants Bank in Pipestone.<br />\n<br />\n~Open to All Chamber Members and Their Employees~<br />\n<br />\nJoin your fellow Chamber Members for coffee\, conversation\, &amp\; networking.<br />\n<br />\nChamber Members can register for a chance to win the Chamber Networking Grand Prize.</span></span></span></font>
LOCATION:First Farmers & Merchants Bank 107 E Main St Pipestone\, MN
UID:e.3499.2
SEQUENCE:3
DTSTAMP:20260422T120018Z
URL:https://business.pipestoneminnesota.com/events/details/chamber-coffee-first-farmers-merchants-bank-2
END:VEVENT

END:VCALENDAR
