BEGIN:VCALENDAR
VERSION:2.0
PRODID:-//ChamberMaster//Event Calendar 2.0//EN
METHOD:PUBLISH
X-PUBLISHED-TTL:P3D
REFRESH-INTERVAL:P3D
CALSCALE:GREGORIAN
BEGIN:VEVENT
DTSTART;VALUE=DATE:20200829
DTEND;VALUE=DATE:20200830
TRANSP:TRANSPARENT
X-MICROSOFT-CDO-ALLDAYEVENT:TRUE
SUMMARY:Couples Golf Tournament
DESCRIPTION:-18 hole man/woman scramble\n\n-$60/team\n\n-Skins and Mulligans available\n\n-Pin prizes and more
X-ALT-DESC;FMTTYPE=text/html:<span class="oi732d6d ik7dh3pa d2edcug0 hpfvmrgz qv66sw1b c1et5uql a8c37x1j muag1w35 ew0dbk1b jq4qci2q a3bd9o3v knj5qynh oo9gr5id" dir="auto">-18 hole man/woman scramble<br />\n-$60/team<br />\n-Skins and Mulligans available<br />\n-Pin prizes and more</span>
LOCATION:
UID:e.3499.430
SEQUENCE:3
DTSTAMP:20260421T231724Z
URL:https://business.pipestoneminnesota.com/events/details/couples-golf-tournament-430
END:VEVENT

END:VCALENDAR
