BEGIN:VCALENDAR
VERSION:2.0
PRODID:-//ChamberMaster//Event Calendar 2.0//EN
METHOD:PUBLISH
X-PUBLISHED-TTL:P3D
REFRESH-INTERVAL:P3D
CALSCALE:GREGORIAN
BEGIN:VEVENT
DTSTART:20201017T150000Z
DTEND:20201017T160000Z
X-MICROSOFT-CDO-ALLDAYEVENT:FALSE
SUMMARY:Crimes of the Past: Uncovered
DESCRIPTION:Crimes of the Past:  Uncovered\n\nThe Pipestone County Historical Society invites you to join them Saturday\, October 17th at 10:00 as they present Crimes of the Past: Uncovered. This presentation will reveal the details of several crimes committed in Pipestone County during its first 100 years.  From bank robbery to murder and more\, the cases presented will divulge a darker side of Pipestone County's history.  Due to social distancing guidelines\, this presentation will take place on the second floor of the Pipestone County Museum and is only accessible by stairs. Masks are required. Cost of this event is $3.00 per adult\, children 12 and under are FREE.\n\n \n\nThe Museum is located at 113 S. Hiawatha Ave. in Pipestone.  If you have any questions\, please call the Pipestone County Museum at (507) 825-2563 or email the Museum at pipctymu@iw.net.  You may also visit our website:  pipestonecountymuseum.com.
X-ALT-DESC;FMTTYPE=text/html:<span style="font-size:18px\;"><strong><em><u><span style="background:white\;"><span style="color:#4C4C4C\;"><span style="font-family:calibri\,sans-serif\;">Crimes of the Past:&nbsp\; Uncovered</span></span></span></u></em></strong><br />\n<span style="color:black\;">The Pipestone County Historical Society invites you to join them <strong>Saturday\, October 17<sup>th</sup> at 10:00</strong> as they present <em><strong>Crimes of the Past: Uncovered</strong>.</em> This presentation will reveal the details of several crimes committed in Pipestone County during its first 100 years.&nbsp\; From bank robbery to murder and more\, the cases presented will divulge a darker side of Pipestone County&rsquo\;s history.&nbsp\; Due to social distancing guidelines\, this presentation will take place on the second floor of the Pipestone County Museum and is only accessible by stairs. Masks are required.&nbsp\;<strong>Cost of this event is $3.00 per adult\, children 12 and under are FREE</strong>.</span><br />\n&nbsp\;<br />\n<span style="color:black\;">The Museum is located at 113 S. Hiawatha Ave. in Pipestone.&nbsp\; If you have any questions\, please call the Pipestone County Museum at (507) 825-2563 or email the Museum at pipctymu@iw.net.&nbsp\; You may also visit our website:&nbsp\; pipestonecountymuseum.com.</span></span>
LOCATION:
UID:e.3499.505
SEQUENCE:3
DTSTAMP:20260422T123128Z
URL:https://business.pipestoneminnesota.com/events/details/crimes-of-the-past-uncovered-505
END:VEVENT

END:VCALENDAR
