BEGIN:VCALENDAR
VERSION:2.0
PRODID:-//ChamberMaster//Event Calendar 2.0//EN
METHOD:PUBLISH
X-PUBLISHED-TTL:P3D
REFRESH-INTERVAL:P3D
CALSCALE:GREGORIAN
BEGIN:VEVENT
DTSTART;VALUE=DATE:20260308
DTEND;VALUE=DATE:20260309
TRANSP:TRANSPARENT
X-MICROSOFT-CDO-ALLDAYEVENT:TRUE
SUMMARY:Daylight Saving Time Begins
DESCRIPTION:Set your clock ahead 1 hour!
X-ALT-DESC;FMTTYPE=text/html:<font color="black"><span class="boldtext1"><span class="text1"><span>Set your clock ahead 1 hour!</span></span></span></font>
LOCATION:
UID:e.3499.2900
SEQUENCE:3
DTSTAMP:20260422T085816Z
URL:https://business.pipestoneminnesota.com/events/details/daylight-saving-time-begins-2900
END:VEVENT

END:VCALENDAR
