BEGIN:VCALENDAR
VERSION:2.0
PRODID:-//ChamberMaster//Event Calendar 2.0//EN
METHOD:PUBLISH
X-PUBLISHED-TTL:P3D
REFRESH-INTERVAL:P3D
CALSCALE:GREGORIAN
BEGIN:VEVENT
DTSTART:20200131T233000Z
DTEND:20200201T033000Z
X-MICROSOFT-CDO-ALLDAYEVENT:FALSE
SUMMARY:Dueling Duo Pianos
DESCRIPTION:Social hour is 5:30-6:30\n\n\n\nMeal is 6:30\n\n\n\nShow starts at 8:00\n\n\n\nTickets are $40.00 for General Admission which includes Show\, Meal\, and one free drink.\n\n\n\nOr can buy a whole table of 8 for 350.00 which gives you reserved seating and all of the same as a General Admission.\n\n\n\n---\n\n\n\nAbout Dueling Duo:\n\n\n\nFor the past decade\, the Dueling Duo has been setting the Midwest ablaze with its unique brand of all-request dueling pianos! With over 1150 shows in 8 states on their resume\, the Duo is unparalleled in their combination of musicianship\, humor and songbook. One of the most asked questions after a show is\, "How do you guys know every song?" Design\, all by design. Andy\, Ryno and Dan are constantly tweaking the catalog\, learning new material as it shows up while also putting new spins on old favorites.\n\n\n\nThe transitions from song to song is another show highlight. While many shows offer medleys\, they are typically well rehearsed and planned out ahead of time not so at a Duo show! Since you\, the audience are choosing\, the three men (there's 3 people in a duo\, right?) wiggle their way in and out of whatever musical choices are thrown at them. This makes every show special: see the Dueling Duo 5 times\, you'll see 5 different shows!
X-ALT-DESC;FMTTYPE=text/html:<font color="black">Social hour is 5:30-6:30<br />\n<br />\nMeal is 6:30<br />\n<br />\nShow starts at 8:00<br />\n<br />\nTickets are $40.00 for General Admission which includes Show\, Meal\, and one free drink.<br />\n<br />\nOr can buy a whole table of 8 for 350.00 which gives you reserved seating and all of the same as a General Admission.<br />\n<br />\n---<br />\n<br />\nAbout Dueling Duo:<br />\n<br />\nFor the past decade\, the Dueling Duo has been setting the Midwest ablaze with its unique brand of all-request dueling pianos! With over 1150 shows in 8 states on their resume\, the Duo is unparalleled in their combination of musicianship\, humor and songbook. One of the most asked questions after a show is\, &ldquo\;How do you guys know every song?&rdquo\; Design\, all by design. Andy\, Ryno and Dan are constantly tweaking the catalog\, learning new material as it shows up while also putting new spins on old favorites.<br />\n<br />\nThe transitions from song to song is another show highlight. While many shows offer medleys\, they are typically well rehearsed and planned out ahead of time&hellip\;not so at a Duo show! Since you\, the audience are choosing\, the three men (there&rsquo\;s 3 people in a duo\, right?) wiggle their way in and out of whatever musical choices are thrown at them. This makes every show special: see the Dueling Duo 5 times\, you&rsquo\;ll see 5 different shows!</font>
LOCATION:PCC Golf & Event Center\, 1105 8th Ave SE\, Pipestone\, MN
UID:e.3499.4
SEQUENCE:3
DTSTAMP:20260422T114559Z
URL:https://business.pipestoneminnesota.com/events/details/dueling-duo-pianos-4
END:VEVENT

END:VCALENDAR
