BEGIN:VCALENDAR
VERSION:2.0
PRODID:-//ChamberMaster//Event Calendar 2.0//EN
METHOD:PUBLISH
X-PUBLISHED-TTL:P3D
REFRESH-INTERVAL:P3D
CALSCALE:GREGORIAN
BEGIN:VEVENT
DTSTART:20200822T150000Z
DTEND:20200822T190000Z
X-MICROSOFT-CDO-ALLDAYEVENT:FALSE
SUMMARY:Founders' Day Celebration
DESCRIPTION:"Is there anyone quarrying today who can talk to us about the process?"\n\n\n\nThis is a common question at the park and this Saturday the answer is yes!\n\n\n\nThe official birthday of the NPS and Pipestone National Monument is August 25th\, but we'll be celebrating this Saturday\, August 22nd\, from 10 am - 2 pm.\n\n\n\nWe've expanded the celebration to include the founders of the quarrying tradition that made this park possible and the people who keep it alive today. One of the quarry pits will have several quarriers working and explaining to visitors the process and meaning of this 3\,000-year-old tradition. The South Quarry Trail will be lined with posters illustrating the history of this site.\n\n\n\nFree refreshments will be available starting at 10 am. We're anticipating beautiful weather\, so we hope to see you at the park!
X-ALT-DESC;FMTTYPE=text/html:<span style="color:#000000\;"><span style="font-size:18px\;"><span aria-live="polite" class="fbPhotosPhotoCaption" data-ft="{&quot\;tn&quot\;:&quot\;K&quot\;}" id="fbPhotoSnowliftCaption" tabindex="0">&quot\;Is there anyone quarrying today who can talk to us about the process?&quot\;<br />\n<br />\nThis is a common question at the park and this Saturday the answer is yes!<br />\n<br />\nThe official birthday of the NPS and Pipestone National Monument is August 25th\, but we&#39\;ll be celebrating this Saturday\, August 22nd\, from 10 am - 2 pm.<br />\n<br />\n<span class="text_exposed_show">We&#39\;ve expanded the celebration to include the founders of the quarrying tradition that made this park possible and the people who keep it alive today. One of the quarry pits will have several quarriers working and explaining to visitors the process and meaning of this 3\,000-year-old tradition. The South Quarry Trail will be lined with posters illustrating the history of this site.<br />\n<br />\nFree refreshments will be available starting at 10 am. We&#39\;re anticipating beautiful weather\, so we hope to see you at the park!</span></span></span></span>
LOCATION:Pipestone National Monument 36 Reservation Ave Pipestone\, MN 56164
UID:e.3499.422
SEQUENCE:3
DTSTAMP:20260421T231624Z
URL:https://business.pipestoneminnesota.com/events/details/founders-day-celebration-422
END:VEVENT

END:VCALENDAR
