BEGIN:VCALENDAR
VERSION:2.0
PRODID:-//ChamberMaster//Event Calendar 2.0//EN
METHOD:PUBLISH
X-PUBLISHED-TTL:P3D
REFRESH-INTERVAL:P3D
CALSCALE:GREGORIAN
BEGIN:VEVENT
DTSTART;VALUE=DATE:20230610
DTEND;VALUE=DATE:20230611
TRANSP:TRANSPARENT
X-MICROSOFT-CDO-ALLDAYEVENT:TRUE
SUMMARY:Free Entrance at Split Rock Creek State Park
DESCRIPTION:On four days each year\, all 75 Minnesota state parks and state recreation areas offer free admission to everyone - no vehicle permits needed! Mark your calendar for these upcoming fee-free dates:\n\n	Saturday\, April 22\n	Saturday\, June 10 (National Get Outdoors Day)\n	Friday\, November 24\n	And a fourth free park day that is yet to be scheduled - stay tuned!\n\nMinnesota state parks are open year-round\, and there's a state park within 30 miles of most Minnesotans. With a free day in each season\, it's a great opportunity to get out there and explore someplace new - or visit an old favorite at a new time of year! Whether you stay for the whole weekend or just spend a few hours outside\, you'll make memories that will last a lifetime.\n\n\n\nThe entrance fee waiver for fee-free days does not cover amenity or user fees for activities like camping\, rentals\, or special tours.\n\n\n\nThe goal is to encourage families to spend time together with a walk outdoors. Research shows that walking offers multiple benefits\, from increased creativity and better brain function to more flexibility and stamina. So you won't just burn calories\, you'll also improve your well-being.
X-ALT-DESC;FMTTYPE=text/html:<span style="font-size:18px\;"><span style="color:#000000\;">On four days each year\, all 75 Minnesota state parks and state recreation areas offer free admission to everyone - no vehicle permits needed! Mark your calendar for these upcoming fee-free dates:</span></span>\n<ul>\n	<li><span style="font-size:18px\;"><span style="color:#000000\;">Saturday\, April 22</span></span></li>\n	<li><strong><span style="font-size:18px\;"><span style="color:#000000\;">Saturday\, June 10 (National Get Outdoors Day)</span></span></strong></li>\n	<li><span style="font-size:18px\;"><span style="color:#000000\;">Friday\, November 24</span></span></li>\n	<li><span style="font-size:18px\;"><span style="color:#000000\;">And a fourth free park day that is yet to be scheduled - stay tuned!</span></span></li>\n</ul>\n<span style="font-size:18px\;"><span style="color:#000000\;">Minnesota state parks are open year-round\, and there&#39\;s a state park within 30 miles of most Minnesotans. With&nbsp\;a free day in each season\, it&#39\;s a great opportunity to get out there and explore someplace new - or visit an old favorite at a new time of year! Whether you stay for the whole weekend or just spend a few hours outside\, you&#39\;ll make memories that will last a lifetime.<br />\n<br />\nThe entrance fee waiver for fee-free days does not cover amenity or user fees for activities like camping\, rentals\, or special tours.<br />\n<br />\nThe goal is to encourage families to spend time together with a walk outdoors. Research shows that walking offers multiple benefits\, from increased creativity and better brain function to more flexibility and stamina. So you won&#39\;t just burn calories\, you&#39\;ll also improve your well-being.</span></span>
LOCATION:Split Rock Creek State Park just off MN Hwy 23 at Ihlen\, MN
UID:e.3499.1617
SEQUENCE:3
DTSTAMP:20260425T234559Z
URL:https://business.pipestoneminnesota.com/events/details/free-entrance-at-split-rock-creek-state-park-1617
END:VEVENT

END:VCALENDAR
