BEGIN:VCALENDAR
VERSION:2.0
PRODID:-//ChamberMaster//Event Calendar 2.0//EN
METHOD:PUBLISH
X-PUBLISHED-TTL:P3D
REFRESH-INTERVAL:P3D
CALSCALE:GREGORIAN
BEGIN:VEVENT
DTSTART;VALUE=DATE:20260124
DTEND;VALUE=DATE:20260125
TRANSP:TRANSPARENT
X-MICROSOFT-CDO-ALLDAYEVENT:TRUE
SUMMARY:Free Movie Night at Christ the King Free Lutheran Church
DESCRIPTION:Christ the King Free Lutheran Church is offering a Free Movie Night on Saturday\, January 24th beginning at 6:00 PM.\n\n\n\nThe Sound of Hope:  The Story of Possum Trot is a feature film about what's possible when a community works together to care for vulnerable children. Inspired by the incredible true story\, Possum Trot follows Donna and Bishop W.C. Martin as they ignite a movement of compassion in their small East Texas church to care for children who needed foster and adoptive families\, leading the charge to prove that faith\, community and perseverance have the power to change the lives of children everywhere.\n\n\n\nAll are welcome to come and freely enjoy this inspiring movie along with complimentary pop and popcorn in comfortable seating and an extra-large screen.
X-ALT-DESC;FMTTYPE=text/html:<span style="font-size:18px\;"><span style="color:#000000\;"><strong>Christ the King Free Lutheran Church</strong> is offering a <strong>Free Movie Night on Saturday\, January 24th beginning at 6:00 PM</strong>.<br />\n<br />\n<em><strong>The Sound of Hope:&nbsp\; The Story of Possum Trot</strong></em> is a feature film about what&rsquo\;s possible when a community works together to care for vulnerable children. Inspired by the incredible true story\, Possum Trot&nbsp\;follows Donna and Bishop W.C. Martin as they ignite a movement of compassion in their small East Texas church to care for children who needed foster and adoptive families\, leading the charge to prove that faith\, community and perseverance have the power to change the lives of children everywhere.<br />\n<br />\nAll are welcome to come and freely enjoy this inspiring movie along with complimentary pop and popcorn in comfortable seating and an extra-large screen.</span></span>
LOCATION:Christ the King Free Lutheran Church
UID:e.3499.2915
SEQUENCE:3
DTSTAMP:20260421T071443Z
URL:https://business.pipestoneminnesota.com/events/details/free-movie-night-at-christ-the-king-free-lutheran-church-2915
END:VEVENT

END:VCALENDAR
