BEGIN:VCALENDAR
VERSION:2.0
PRODID:-//ChamberMaster//Event Calendar 2.0//EN
METHOD:PUBLISH
X-PUBLISHED-TTL:P3D
REFRESH-INTERVAL:P3D
CALSCALE:GREGORIAN
BEGIN:VEVENT
DTSTART:20200815T150000Z
DTEND:20200815T160000Z
X-MICROSOFT-CDO-ALLDAYEVENT:FALSE
SUMMARY:Hiawatha Ave & Beyond Walking Tour
DESCRIPTION:Join us as we stroll down Hiawatha Avenue and beyond in Pipestone to learn the history of the historic buildings along the route.  Buildings featured will include Old City Hall\, the Pipestone Post Office\, the Carnegie Library\, First Presbyterian Church\, the former St. Paul Episcopal Church (including inside) and the Pipestone County Courthouse.  This tour will also provide information on some of the historic homes along the route. The tour will be held Saturday\, August 15th beginning at 10:00 a.m.  Cost of the tour is $3.00 for adults\; children 12 and under are free.  Tickets can be purchased at the Pipestone County Museum in advance and until departure the day of the tour. All COVID-19 social distancing guidelines will be followed.  Bring your mask.\n\n\n\nThe Pipestone County Museum is located at 113 S. Hiawatha Avenue in Pipestone\, MN.  If you have further questions you may call the Museum at (507) 825-2653 or email them at pipctymu@iw.net.
X-ALT-DESC;FMTTYPE=text/html:Join us as we stroll down Hiawatha Avenue and beyond in Pipestone to learn the <strong>history of the historic buildings along the route</strong>.&nbsp\; Buildings featured will include <strong>Old City Hall\, the Pipestone Post Office\, the Carnegie Library\, First Presbyterian Church\, the former St. Paul Episcopal Church (including inside) and the Pipestone County Courthouse</strong>.&nbsp\; This tour will also provide information on some of the historic homes along the route. The tour will be held Saturday\, August 15<sup>th</sup> beginning at 10:00 a.m.&nbsp\; Cost of the tour is<strong> $3.00 for adults\; children 12 and under are free</strong>.&nbsp\; Tickets can be purchased at the Pipestone County Museum in advance and until departure the day of the tour. All COVID-19 social distancing guidelines will be followed. &nbsp\;Bring your mask.<br />\n<br />\nThe Pipestone County Museum is located at 113 S. Hiawatha Avenue in Pipestone\, MN.&nbsp\; If you have further questions you may call the Museum at (507) 825-2653 or email them at <a href="mailto:pipctymu@iw.net">pipctymu@iw.net</a>.
LOCATION:
UID:e.3499.421
SEQUENCE:3
DTSTAMP:20260421T231810Z
URL:https://business.pipestoneminnesota.com/events/details/hiawatha-ave-beyond-walking-tour-421
END:VEVENT

END:VCALENDAR
