BEGIN:VCALENDAR
VERSION:2.0
PRODID:-//ChamberMaster//Event Calendar 2.0//EN
METHOD:PUBLISH
X-PUBLISHED-TTL:P3D
REFRESH-INTERVAL:P3D
CALSCALE:GREGORIAN
BEGIN:VEVENT
DTSTART;VALUE=DATE:20260127
DTEND;VALUE=DATE:20260128
TRANSP:TRANSPARENT
X-MICROSOFT-CDO-ALLDAYEVENT:TRUE
SUMMARY:History Happy Hour
DESCRIPTION:The public is invited to join the Pipestone County Historical Society each month\, January through March 2026\, for 10-minute presentations on intriguing pieces of history from Pipestone County's past. The theme for 2026 is Bank Robberies. Each month's presentation will include stories of a crime or crimes from somewhere in Pipestone County. The January presentation will feature the story of the first known bank robbery that happened in Woodstock as well as one criminal that robbed banks in both Holland and Ruthton.\n\n \n\nJoin us on Tuesday\, January 27th\, at 6:00 p.m. at Staci's Bar & Grill in Woodstock or on Thursday\, January 29th\, at 6:00 p.m. at the Pipestone Country Club.
X-ALT-DESC;FMTTYPE=text/html:<span style="font-size:18px\;"><span style="color:#000000\;">The public is invited to join the Pipestone County Historical Society <strong>each month\, January through March 2026\, for 10-minute presentations on intriguing pieces of history from Pipestone County&rsquo\;s past</strong>. The <strong>theme for 2026 is Bank Robberies</strong>. Each month&rsquo\;s presentation will include stories of a crime or crimes from somewhere in Pipestone County. <strong>The January presentation will feature the story of the first known bank robbery that happened in Woodstock as well as one criminal that robbed banks in both Holland and Ruthton</strong>.<br />\n&nbsp\;<br />\nJoin us on <strong>Tuesday\, January 27th\, at 6:00 p.m. at Staci&rsquo\;s Bar &amp\; Grill in Woodstock or on Thursday\, January 29th\, at 6:00 p.m. at the Pipestone Country Club</strong>.&nbsp\; &nbsp\;</span></span>
LOCATION:Staci's Bar & Grill
UID:e.3499.2919
SEQUENCE:3
DTSTAMP:20260421T071056Z
URL:https://business.pipestoneminnesota.com/events/details/history-happy-hour-2919
END:VEVENT

END:VCALENDAR
