BEGIN:VCALENDAR
VERSION:2.0
PRODID:-//ChamberMaster//Event Calendar 2.0//EN
METHOD:PUBLISH
X-PUBLISHED-TTL:P3D
REFRESH-INTERVAL:P3D
CALSCALE:GREGORIAN
BEGIN:VEVENT
DTSTART:20211217T013000Z
DTEND:20211217T033000Z
X-MICROSOFT-CDO-ALLDAYEVENT:FALSE
SUMMARY:Holy Rocka Rollaz Christmas Show
DESCRIPTION:Plan to attend our Christmas Presenter Series show at the Pipestone Performing Arts Center with a night of festive\, rock 'n' roll music. Take an authentic trip back to the fantastic 50's with The Holy Rocka Rollaz! "Rockin' Around The Christmas Tree!" "Jingle Bell Rock!" "Santa Baby!" "Run Rudolph Run!" And MANY more classic Christmas songs delivered LIVE by Minnesota's own 50s rock 'n' roll trio. The Holy Rocka Rollaz will take the PPAC stage on Thursday\, December 16th at 7:30 p.m. A Cash Bar will be available before the performance\, and during intermission.\n\n\n\nNothing pleases these rock 'n' roll veterans more than seeing different generations enjoy this classic music together. The Holy Rocka Rollaz play with an immense amount of energy and joy. The trio collectively brings decades of live and studio experience to their shows and music.\n\n\n\nFront man Mark Flora says his proudest moments come while playing the Winter Dance Party each year at the legendary Surf Ballroom in Clear Lake\, IA. "Knowing that my band is regularly on the stage Buddy Holly played his last show\, well\, it just gives me chills\," he said. "And seeing our name annually on the Surf Ballroom's marquee...well...that'll never grow old!"\n\n\n\nWith fellow musicians\, drummer Matt Alexander & stand up bassist/vocalist Lisa Lynn\, the three musicians have played many stages\; including the Minnesota State Fair\, Missouri State Fair\, the huge Minnesota Street Rod Association Back To the '50s Car Show\, South Dakota State Fair\, First Avenue\, the Cabooze\, the historic Surf Ballroom in Clear Lake\, Iowa\, Treasure Island Casino\, Mille Lacs Grand Casion\, Hinckley Grand Casino Concert Hall\, the Redlin Art Center in South Dakota\, many Upper Midwest fairs and festivals\, Winona Steamboat Days\, Slice of Shoreview\, the world's largest county fair in Clay County\, Iowa\, Coon Rapids Concerts By The Dam\, Lee's Liquor Lounge\, the Uptown Bar\, the Fine Line\, the 400 Bar\, Schooner Tavern\, barn dances\, car shows\, sock hops\, private shows and prisons. Mark's wife\, Lisa Lynn officially became the bassist in early 2014.\n\n\n\nThe band's first show together was in the South Dakota State Penitentiary several years ago\, serving in a ministry capacity\, where Flora has been sharing good news to inmates since 2003. "We were having so much fun playing in the State Pen that we decided to take our music to car shows and other events. We really do enjoy playing 50s rock 'n' roll just the way it was played back in the day. Seeing people light up when we really go for it brings this band a lot of joy. We hope we can do this for many years and for many people\," said Flora.
X-ALT-DESC;FMTTYPE=text/html:<div style="text-align: justify\;"><span style="font-size:18px\;"><span style="color:#000000\;">Plan to attend our Christmas Presenter Series show at the Pipestone Performing Arts Center with a night of festive\, rock &lsquo\;n&rsquo\; roll music. <strong>Take an authentic trip back to the fantastic 50&rsquo\;s with The Holy Rocka Rollaz! &ldquo\;Rockin&rsquo\; Around The Christmas Tree!&rdquo\; &ldquo\;Jingle Bell Rock!&rdquo\; &ldquo\;Santa Baby!&rdquo\; &ldquo\;Run Rudolph Run!&rdquo\; And MANY more classic Christmas songs delivered LIVE by Minnesota&rsquo\;s own 50s rock &lsquo\;n&rsquo\; roll trio.</strong> The Holy Rocka Rollaz will take the PPAC stage on Thursday\, December 16th at 7:30 p.m. A <strong>Cash Bar will be available</strong> before the performance\, and during intermission.<br />\n<br />\nNothing pleases these rock &lsquo\;n&rsquo\; roll veterans more than seeing different generations enjoy this classic music together. The Holy Rocka Rollaz play with an immense amount of energy and joy. The trio collectively brings decades of live and studio experience to their shows and music.<br />\n<br />\nFront man Mark Flora says his proudest moments come while playing the Winter Dance Party each year at the legendary Surf Ballroom in Clear Lake\, IA. &ldquo\;Knowing that my band is regularly on the stage Buddy Holly played his last show\, well\, it just gives me chills\,&rdquo\; he said. &ldquo\;And seeing our name annually on the Surf Ballroom&rsquo\;s marquee...well...that&rsquo\;ll never grow old!&rdquo\;<br />\n<br />\nWith fellow musicians\, drummer Matt Alexander &amp\; stand up bassist/vocalist Lisa Lynn\, the three musicians have played many stages\; including the <strong>Minnesota State Fair</strong>\,<strong> Missouri State Fair\,</strong> the huge Minnesota Street Rod Association Back To the &lsquo\;50s Car Show\, <strong>South Dakota State Fair</strong>\,<strong> First Avenu</strong>e\, the Cabooze\, <strong>the historic Surf Ballroom in Clear Lake</strong>\,<strong> Iowa</strong>\, <strong>Treasure Island Casino</strong>\,<strong> Mille Lacs Grand Casion</strong>\,<strong> Hinckley Grand Casino Concert Hall</strong>\,<strong> the Redlin Art Center in South Dakota</strong>\, many Upper Midwest fairs and festivals\, Winona Steamboat Days\, Slice of Shoreview\, the <strong>world&rsquo\;s largest county fair in Clay County</strong>\,<strong> Iowa</strong>\, Coon Rapids Concerts By The Dam\, Lee&rsquo\;s Liquor Lounge\, the Uptown Bar\, the Fine Line\, the 400 Bar\, Schooner Tavern\, barn dances\, car shows\, sock hops\, private shows and prisons. Mark&rsquo\;s wife\, Lisa Lynn officially became the bassist in early 2014.<br />\n<br />\nThe band&rsquo\;s first show together was in the South Dakota State Penitentiary several years ago\, serving in a ministry capacity\, where Flora has been sharing good news to inmates since 2003. &ldquo\;We were having so much fun playing in the State Pen that we decided to take our music to car shows and other events. We really do enjoy playing 50s rock &lsquo\;n&rsquo\; roll just the way it was played back in the day. Seeing people light up when we really go for it brings this band a lot of joy. We hope we can do this for many years and for many people\,&rdquo\; said Flora.</span></span></div>\n
LOCATION:Pipestone Performing Arts Center
UID:e.3499.980
SEQUENCE:3
DTSTAMP:20260419T205406Z
URL:https://business.pipestoneminnesota.com/events/details/holy-rocka-rollaz-christmas-show-980
END:VEVENT

END:VCALENDAR
