BEGIN:VCALENDAR
VERSION:2.0
PRODID:-//ChamberMaster//Event Calendar 2.0//EN
METHOD:PUBLISH
X-PUBLISHED-TTL:P3D
REFRESH-INTERVAL:P3D
CALSCALE:GREGORIAN
BEGIN:VEVENT
DTSTART:20260525T120000Z
DTEND:20260525T220000Z
X-MICROSOFT-CDO-ALLDAYEVENT:FALSE
SUMMARY:Memorial Day Avenue of Flags
DESCRIPTION:Annual Avenues of Flags Notice:\n\nFlags are typically set at the following locations:\n\n\n	Downtown\n	Courthouse\n	Cemetery\n	Highway 30\n\nVOLUNTEERS NEEDED:\n\n10-16 People will be needed for setup & tear down.\n\n\n\nThose interested should meet at the Pipestone Fire Department parking lot at 7:00 am on Memorial Day..\n\n\n\nTear down begins at the Pipestone Fire Department parking lot by 5:00 pm (they usually get started around 4:45 pm).\n\n\n\nThe Avenue of Flags is supported by the Pipestone American Legion Post 6 and made possible through volunteers and donations.
X-ALT-DESC;FMTTYPE=text/html:<p><span style="color:#000000\;"><strong>Annual Avenues of Flags Notice:<br />\nFlags are typically&nbsp\;set at the following locations:</strong></span></p>\n\n<ul>\n	<li><span style="color:#000000\;"><strong>Downtown</strong></span></li>\n	<li><span style="color:#000000\;"><strong>Courthouse</strong></span></li>\n	<li><span style="color:#000000\;"><strong>Cemetery</strong></span></li>\n	<li><span style="color:#000000\;"><strong>Highway 30</strong></span></li>\n</ul>\n<span style="color:#000000\;"><u><strong>VOLUNTEERS NEEDED:</strong></u><br />\n10-16 People will be needed for setup &amp\; tear down.<br />\n<br />\nThose interested should meet at the Pipestone Fire Department parking lot at 7:00 am on Memorial Day..<br />\n<br />\nTear down begins at the Pipestone Fire Department parking lot by 5:00 pm (<em>they usually get started around 4:45 pm</em>).<br />\n<br />\nThe Avenue of Flags is supported by the Pipestone American Legion Post 6 and made possible through volunteers and donations.</span>
LOCATION:
UID:e.3499.2897
SEQUENCE:3
DTSTAMP:20260421T010149Z
URL:https://business.pipestoneminnesota.com/events/details/memorial-day-avenue-of-flags-2897
END:VEVENT

END:VCALENDAR
