BEGIN:VCALENDAR
VERSION:2.0
PRODID:-//ChamberMaster//Event Calendar 2.0//EN
METHOD:PUBLISH
X-PUBLISHED-TTL:P3D
REFRESH-INTERVAL:P3D
CALSCALE:GREGORIAN
BEGIN:VEVENT
DTSTART;VALUE=DATE:20200506
DTEND;VALUE=DATE:20200507
TRANSP:TRANSPARENT
X-MICROSOFT-CDO-ALLDAYEVENT:TRUE
SUMMARY:MN West Virtual PSEO Info Sessions
DESCRIPTION:Minnesota West Community & Technical College will host virtual PSEO Information Sessions for Parents and students on Wednesday\, May 6\, 2020. Two sessions will be available through zoom at Noon and 6:00 p.m. Join either session to learn more about Post Secondary Enrollment Options and how high school students can earn college credits for free before they graduate.\n\n \n\nTo join via zoom use the following Zoom meeting information: \n\n \n\nJOIN ZOOM MEETING AT \n\nHTTPS://MINNSTATE.ZOOM.US/J/671119039 \n\nMEETING ID: 671 119 039\n\n \n\nTo join by phone dial in at 929-205-6099 meeting ID: 671119039#\n\n \n\nFor more information about Minnesota West Community & Technical College or the PSEO program visit www.mnwest.edu or call 800-658-2330.
X-ALT-DESC;FMTTYPE=text/html:Minnesota West Community &amp\; Technical College will host virtual PSEO Information Sessions for Parents and students on Wednesday\, May 6\, 2020. Two sessions will be available through zoom at Noon and 6:00 p.m. Join either session to learn more about Post Secondary Enrollment Options and how high school students can earn college credits for free before they graduate.<br />\n&nbsp\;<br />\n<span style="font-family:calibri\,sans-serif\;"><span style="font-size:11.0pt\;">To join via zoom use the following Zoom meeting information: </span></span><br />\n&nbsp\;<br />\n<span style="font-weight:normal\;"><span style="font-family:calibri\,sans-serif\;"><span style="font-size:11.0pt\;">JOIN ZOOM MEETING AT </span></span></span><br />\n<span style="font-weight:normal\;"><span style="font-family:calibri\,sans-serif\;"><span style="font-size:11.0pt\;"><a href="HTTPS://MINNSTATE.ZOOM.US/J/671119039">HTTPS://MINNSTATE.ZOOM.US/J/671119039</a> </span></span></span><br />\n<span style="font-weight:normal\;"><span style="font-size:23.0pt\;">MEETING ID: 671 119 039</span></span><br />\n&nbsp\;<br />\n<span style="font-family:calibri\,sans-serif\;"><span style="font-size:11.0pt\;">To join by phone dial in </span></span><span style="color:windowtext\;"><span style="font-family:calibri\,sans-serif\;"><span style="font-size:11.0pt\;">at 929-205-6099 meeting ID: 671119039#</span></span></span><br />\n&nbsp\;<br />\nFor more information about Minnesota West Community &amp\; Technical College or the PSEO program visit <a href="http://www.mnwest.edu">www.mnwest.edu</a> or call 800-658-2330.
LOCATION:
UID:e.3499.133
SEQUENCE:3
DTSTAMP:20260422T061844Z
URL:https://business.pipestoneminnesota.com/events/details/mn-west-virtual-pseo-info-sessions-133
END:VEVENT

END:VCALENDAR
