BEGIN:VCALENDAR
VERSION:2.0
PRODID:-//ChamberMaster//Event Calendar 2.0//EN
METHOD:PUBLISH
X-PUBLISHED-TTL:P3D
REFRESH-INTERVAL:P3D
CALSCALE:GREGORIAN
BEGIN:VEVENT
DTSTART:20200223T003000Z
DTEND:20200223T023000Z
X-MICROSOFT-CDO-ALLDAYEVENT:FALSE
SUMMARY:Movie Night Out
DESCRIPTION:Title to be announced.
X-ALT-DESC;FMTTYPE=text/html:<font color="black"><span class="boldtext1"><span class="text1"><span>Title to be announced.</span></span></span></font>
LOCATION:Meinders Community Library\, 1401 7th St SW\, Pipestone
UID:e.3499.20
SEQUENCE:3
DTSTAMP:20260422T114749Z
URL:https://business.pipestoneminnesota.com/events/details/movie-night-out-20
END:VEVENT

END:VCALENDAR
