BEGIN:VCALENDAR
VERSION:2.0
PRODID:-//ChamberMaster//Event Calendar 2.0//EN
METHOD:PUBLISH
X-PUBLISHED-TTL:P3D
REFRESH-INTERVAL:P3D
CALSCALE:GREGORIAN
BEGIN:VEVENT
DTSTART:20200816T014500Z
DTEND:20200816T034500Z
X-MICROSOFT-CDO-ALLDAYEVENT:FALSE
SUMMARY:Movie: The Call of The Wild
DESCRIPTION:The next outdoor movie at The Warehhouse is T"he Call of the Wild" on Friday August 14th and Saturday August 15th. The movie will begin at 8:45 pm. Tickets are $3.00. . Concessions are available. Bring your own lawn chair or blankets. Hope to see you there!
X-ALT-DESC;FMTTYPE=text/html:The next outdoor movie at The Warehhouse is <em>T&quot\;he Call of the Wild&quot\;</em> on Friday August 14th and Saturday August 15th. The movie will begin at 8:45 pm. Tickets are $3.00. . Concessions are available. Bring your own lawn chair or blankets. Hope to see you there!
LOCATION:
UID:e.3499.414
SEQUENCE:3
DTSTAMP:20260422T011811Z
URL:https://business.pipestoneminnesota.com/events/details/movie-the-call-of-the-wild-08-15-2020-414
END:VEVENT

END:VCALENDAR
