BEGIN:VCALENDAR
VERSION:2.0
PRODID:-//ChamberMaster//Event Calendar 2.0//EN
METHOD:PUBLISH
X-PUBLISHED-TTL:P3D
REFRESH-INTERVAL:P3D
CALSCALE:GREGORIAN
BEGIN:VEVENT
DTSTART:20260319T150000Z
DTEND:20260319T160000Z
X-MICROSOFT-CDO-ALLDAYEVENT:FALSE
SUMMARY:Museum's Monthly "Coffee Talk"
DESCRIPTION:The public is invited to join the Pipestone County Historical Society for its monthly Coffee Talk!\n\n\n\nSpeaker:  Noah Burris\, Collections & Exhibits Mgr\n\nTopic:  Selected Artifacts from the Museum's Collection\n\n\n\nCoffee Talks are FREE for all members of the public to attend. If you are unable to attend in person\, the presentation will be recorded and shared on the Museum's YouTube channel. The link to the video will be on the Pipestone County Museum's website as soon as it is available.\n\n\n\nCoffee Talks are held the third Thursday of each month. Complimentary coffee and treats are served beginning at 9:45 a.m. Presentations begin at 10:00. The Pipestone County Museum is located at 113 S. Hiawatha Avenue in Pipestone\, MN. If you have further questions\, you may call the Museum at (507) 825-2563 or email them at museum@pipestonecountymuseum.com.
X-ALT-DESC;FMTTYPE=text/html:<span style="font-size:18px\;"><span style="color:#000000\;">The public is invited to join the Pipestone County Historical Society for its monthly Coffee Talk!<br />\n<br />\n<strong>Speaker:&nbsp\; Noah Burris\, Collections &amp\; Exhibits Mgr<br />\nTopic:&nbsp\; Selected Artifacts from the Museum&#39\;s Collection</strong></span></span><br />\n<br />\n<span style="font-size:18px\;"><span style="color:#000000\;">Coffee Talks are FREE for all members of the public to attend. If you are unable to attend in person\, the presentation will be recorded and shared on the Museum&#39\;s YouTube channel. The link to the video will be on the Pipestone County Museum&#39\;s website as soon as it is available.<br />\n<br />\nCoffee Talks are held the third Thursday of each month. <strong>Complimentary coffee and treats are served beginning at 9:45 a.m. Presentations begin at 10:00</strong>. The Pipestone County Museum is located at 113 S. Hiawatha Avenue in Pipestone\, MN. If you have further questions\, you may call the Museum at (507) 825-2563 or email them at </span><a href="mailto:museum@pipestonecountymuseum.com"><span style="color:#0000FF\;">museum@pipestonecountymuseum.com</span></a><span style="color:#000000\;">.</span></span>
LOCATION:Pipestone County Museum
UID:e.3499.2918
SEQUENCE:3
DTSTAMP:20260421T030534Z
URL:https://business.pipestoneminnesota.com/events/details/museum-s-monthly-coffee-talk-2918
END:VEVENT

END:VCALENDAR
