BEGIN:VCALENDAR
VERSION:2.0
PRODID:-//ChamberMaster//Event Calendar 2.0//EN
METHOD:PUBLISH
X-PUBLISHED-TTL:P3D
REFRESH-INTERVAL:P3D
CALSCALE:GREGORIAN
BEGIN:VEVENT
DTSTART;VALUE=DATE:20260524
DTEND;VALUE=DATE:20260525
TRANSP:TRANSPARENT
X-MICROSOFT-CDO-ALLDAYEVENT:TRUE
SUMMARY:PAS Graduation
DESCRIPTION:Congratulations PAS Class of 2026!
X-ALT-DESC;FMTTYPE=text/html:Congratulations PAS Class of 2026!&nbsp\;
LOCATION:Middle School/High School Gymnasium
UID:e.3499.2896
SEQUENCE:3
DTSTAMP:20260421T005501Z
URL:https://business.pipestoneminnesota.com/events/details/pas-graduation-2896
END:VEVENT

END:VCALENDAR
