BEGIN:VCALENDAR
VERSION:2.0
PRODID:-//ChamberMaster//Event Calendar 2.0//EN
METHOD:PUBLISH
X-PUBLISHED-TTL:P3D
REFRESH-INTERVAL:P3D
CALSCALE:GREGORIAN
BEGIN:VEVENT
DTSTART;VALUE=DATE:20260425
DTEND;VALUE=DATE:20260426
TRANSP:TRANSPARENT
X-MICROSOFT-CDO-ALLDAYEVENT:TRUE
SUMMARY:PAS Prom
DESCRIPTION:Save the date for Pipestone Area Schools' annual Prom!
X-ALT-DESC;FMTTYPE=text/html:Save the date for Pipestone Area Schools&#39\; annual Prom!
LOCATION:Pipestone Area Schools
UID:e.3499.2895
SEQUENCE:3
DTSTAMP:20260420T224028Z
URL:https://business.pipestoneminnesota.com/events/details/pas-prom-2895
END:VEVENT

END:VCALENDAR
