BEGIN:VCALENDAR
VERSION:2.0
PRODID:-//ChamberMaster//Event Calendar 2.0//EN
METHOD:PUBLISH
X-PUBLISHED-TTL:P3D
REFRESH-INTERVAL:P3D
CALSCALE:GREGORIAN
BEGIN:VEVENT
DTSTART:20260331T220000Z
DTEND:20260401T023000Z
X-MICROSOFT-CDO-ALLDAYEVENT:FALSE
SUMMARY:Pheasants Forever 41st Annual Banquet
DESCRIPTION:Pipestone County Pheasants Forever will be holding their 41st Annual Banquet on Tuesday\, March 31\, 2026 at the Pipestone National Guard Armory. Doors open at 5:00pm and dinner will start at 6:30pm.\n\n\nTickets are $60 (which includes an individual annual membership to the organization). Tickets for nonmember spouses and children who accompany a member are $30 each.\n\n\n\nThe Pipestone County Pheasants Forever Chapter will be contacting their members and sponsors with tickets for their Annual Banquet.\n\n\n\nFor more information or to purchase tickets contact Marty Wallin at 507-215-1486 or Tim Houg.\n\n\n\nThe Pipestone County Chapter would like to thank all of its members\, sponsors\, and donors for their gifts and time to help us protect our pheasants\, other wildlife\, and their habitat. The Pipestone County Chapter also supports youth education\, shooting sports\, firearms safety\, hunting etiquette\, and an appreciation for the great outdoors.
X-ALT-DESC;FMTTYPE=text/html:<div><span style="font-size: 18px\; color: rgb(0\, 0\, 0)\;">Pipestone County Pheasants Forever will be holding their 41st&nbsp\;Annual Banquet on Tuesday\, March 31\, 2026&nbsp\;at the Pipestone National Guard Armory. </span><strong style="font-size: 18px\; color: rgb(0\, 0\, 0)\;">Doors open at 5:00pm and dinner will start at 6:30pm</strong><span style="font-size: 18px\; color: rgb(0\, 0\, 0)\;">.</span></div>\n<br />\n<span style="color:#000000\;"><span style="font-size:18px\;"><strong>Tickets are $60&nbsp\;(which includes an individual annual membership to the organization). Tickets for nonmember spouses and children who accompany a member are $30&nbsp\;each.</strong><br />\n<br />\nThe Pipestone County Pheasants Forever Chapter will be contacting their members and sponsors with tickets for their Annual Banquet.<br />\n<br />\n<strong>For more information or to purchase tickets contact Marty Wallin at 507-215-1486 or Tim Houg.</strong><br />\n<br />\nThe Pipestone County Chapter would like to thank all of its members\, sponsors\, and donors for their gifts and time to help us protect our pheasants\, other wildlife\, and their habitat. The Pipestone County Chapter also supports youth education\, shooting sports\, firearms safety\, hunting etiquette\, and an appreciation for the great outdoors.&nbsp\;</span></span>
LOCATION:Pipestone National Guard Armory
UID:e.3499.2894
SEQUENCE:3
DTSTAMP:20260422T111813Z
URL:https://business.pipestoneminnesota.com/events/details/pheasants-forever-41st-annual-banquet-2894
END:VEVENT

END:VCALENDAR
