BEGIN:VCALENDAR
VERSION:2.0
PRODID:-//ChamberMaster//Event Calendar 2.0//EN
METHOD:PUBLISH
X-PUBLISHED-TTL:P3D
REFRESH-INTERVAL:P3D
CALSCALE:GREGORIAN
BEGIN:VEVENT
DTSTART;VALUE=DATE:20200501
DTEND;VALUE=DATE:20200503
TRANSP:TRANSPARENT
X-MICROSOFT-CDO-ALLDAYEVENT:TRUE
SUMMARY:POSTPONED DATE TBD: City-Wide Rummage Sales
DESCRIPTION:POSTPONED DUE TO COVID-19. NEW DATE TBD. Pipestone City-Wide Rummage Sales will NOT be Friday and Saturday\, May 1-2. Rummage Sale Listings will be available at several locations including gas stations\, restaurants\, Chamber parking lot\, and on the community calendar at PipestoneMinnesota.com. To be included in the Rummage Sale Listing and Chamber's promotional package\, please contact at the Chamber at 825-3316.
X-ALT-DESC;FMTTYPE=text/html:<div class="fl-callout-text-wrap">\n<div class="fl-callout-text">\n<p><span style="font-size:18px\;">POSTPONED DUE TO COVID-19. NEW DATE TBD. Pipestone City-Wide Rummage Sales will NOT be Friday and Saturday\, May 1-2. Rummage Sale Listings will be available at several locations including gas stations\, restaurants\, Chamber parking lot\, and on the community calendar at PipestoneMinnesota.com. To be included in the Rummage Sale Listing and Chamber&rsquo\;s promotional package\, please contact at the Chamber at 825-3316.</span><br />\n&nbsp\;</p>\n</div>\n</div>\n
LOCATION:
UID:e.3499.97
SEQUENCE:3
DTSTAMP:20260422T062821Z
URL:https://business.pipestoneminnesota.com/events/details/postponed-date-tbd-city-wide-rummage-sales-97
END:VEVENT

END:VCALENDAR
