BEGIN:VCALENDAR
VERSION:2.0
PRODID:-//ChamberMaster//Event Calendar 2.0//EN
METHOD:PUBLISH
X-PUBLISHED-TTL:P3D
REFRESH-INTERVAL:P3D
CALSCALE:GREGORIAN
BEGIN:VEVENT
DTSTART:20200829T150000Z
DTEND:20200829T160000Z
X-MICROSOFT-CDO-ALLDAYEVENT:FALSE
SUMMARY:Salem Cemetery Walking Tour
DESCRIPTION:Salem Cemetery Tour Scheduled\n\nThe Salem Church Cemetery was started in 1886.  Located in Sweet Township near the South Dakota border this tour will visit the gravesites of some of the people who worshiped in the Salem Church and farmed the land nearby.  Still active today\, a brief history of the church will also be shared.\n\n\n\nThe tour will be held Saturday\, August 29th beginning at 10:00 a.m.  Cost of the tour is $3.00 for adults\; children 12 and under are free.  Directions to the church and cemetery are:  5 miles west of Pipestone on Highway 30\, 4 miles south on County Road 13\, 1 mile west on 61st street (gravel). \n\n\n\nTickets can be purchased at the Pipestone County Museum in advance or at the cemetery on the day of the tour.  All COVID-19 social distancing guidelines will be followed. Bring your mask.\n\n\n\nThe Pipestone County Museum is located at 113 S. Hiawatha Avenue in Pipestone\, MN.  If you have further questions you may call the Museum at (507) 825-2653 or email them at pipctymu@iw.net.
X-ALT-DESC;FMTTYPE=text/html:<strong><em><span style="font-size:14.0pt\;">Salem Cemetery Tour Scheduled</span></em></strong><br />\nThe Salem Church Cemetery was started in 1886.&nbsp\; Located in Sweet Township near the South Dakota border this tour will visit the gravesites of some of the people who worshiped in the Salem Church and farmed the land nearby.&nbsp\; Still active today\, a brief history of the church will also be shared.<br />\n<br />\nThe tour will be held Saturday\, August 29<sup>th</sup> beginning at 10:00 a.m.&nbsp\; Cost of the tour is $3.00 for adults\; children 12 and under are free.&nbsp\; Directions to the church and cemetery are:&nbsp\; 5 miles west of Pipestone on Highway 30\, 4 miles south on County Road 13\, 1 mile west on 61<sup>st</sup> street (gravel).&nbsp\;<br />\n<br />\nTickets can be purchased at the Pipestone County Museum in advance or at the cemetery on the day of the tour.&nbsp\; All COVID-19 social distancing guidelines will be followed. Bring your mask.<br />\n<br />\nThe Pipestone County Museum is located at 113 S. Hiawatha Avenue in Pipestone\, MN.&nbsp\; If you have further questions you may call the Museum at (507) 825-2653 or email them at <a href="mailto:pipctymu@iw.net">pipctymu@iw.net</a>.
LOCATION:
UID:e.3499.425
SEQUENCE:3
DTSTAMP:20260421T232428Z
URL:https://business.pipestoneminnesota.com/events/details/salem-cemetery-walking-tour-425
END:VEVENT

END:VCALENDAR
