BEGIN:VCALENDAR
VERSION:2.0
PRODID:-//ChamberMaster//Event Calendar 2.0//EN
METHOD:PUBLISH
X-PUBLISHED-TTL:P3D
REFRESH-INTERVAL:P3D
CALSCALE:GREGORIAN
BEGIN:VEVENT
DTSTART:20260722T160000Z
DTEND:20260722T180000Z
X-MICROSOFT-CDO-ALLDAYEVENT:FALSE
SUMMARY:Teddy Bear Picnic
DESCRIPTION:Join Us for the annual Teddy Bear Picnic on Wednesday\, July 22 from 11am to 1pm at Moore Park #OnlyinPipestone!\n\n\n\nActivities at 11 am\, Lunch at 12 noon\, Teddy Bear Parade at 12:35\, Pinata at 12:45 pm.\n\n\n\nGames\, Pinata\, Photos\, Prizes\, One-Room Schoolhouse\, Hot Dog Lunch\, & Parade in the Park with Teddy Bears!\n\n\n\nFree\, Fun Event! All families and child care providers welcome!! B.Y.O.Teddy Bears (or favorite stuffed animal) & Picnic Blankets.\n\n\n\nSponsored by the Pipestone Kiwanis Club & the Pipestone Area Chamber of Commerce.
X-ALT-DESC;FMTTYPE=text/html:<div style="text-align: center\;">&nbsp\;</div>\n<span style="font-size:18px\;"><span style="color:#000000\;">Join Us for the annual Teddy Bear Picnic on Wednesday\, July 22 from 11am to 1pm at Moore Park #OnlyinPipestone!<br />\n<br />\nActivities at 11 am\, Lunch at 12 noon\, Teddy Bear Parade at 12:35\, Pinata at 12:45 pm.<br />\n<br />\nGames\, Pinata\, Photos\, Prizes\, One-Room Schoolhouse\, Hot Dog Lunch\, &amp\; Parade in the Park with Teddy Bears!<br />\n<br />\nFree\, Fun Event! All families and child care providers welcome!! B.Y.O.Teddy Bears (or favorite stuffed animal) &amp\; Picnic Blankets.<br />\n<br />\nSponsored by the Pipestone Kiwanis Club &amp\; the Pipestone Area Chamber of Commerce.</span></span>
LOCATION:Moore Park
UID:e.3499.3068
SEQUENCE:3
DTSTAMP:20260421T050119Z
URL:https://business.pipestoneminnesota.com/events/details/teddy-bear-picnic-3068
END:VEVENT

END:VCALENDAR
