BEGIN:VCALENDAR
VERSION:2.0
PRODID:-//ChamberMaster//Event Calendar 2.0//EN
METHOD:PUBLISH
X-PUBLISHED-TTL:P3D
REFRESH-INTERVAL:P3D
CALSCALE:GREGORIAN
BEGIN:VEVENT
DTSTART;VALUE=DATE:20231122
DTEND;VALUE=DATE:20231123
TRANSP:TRANSPARENT
X-MICROSOFT-CDO-ALLDAYEVENT:TRUE
SUMMARY:United Way Grant Deadline
DESCRIPTION:2023 United Way of Pipestone County Applications now available. Due the day before Thanksgiving. Your request MUST be received by 5 pm on Wednesday\, November 22\, 2023. Applications may be dropped off at First Bank & Trust\, First Farmers & Merchants\, First State Bank SW\, or the Pipestone Area Chamber of Commerce. Click HERE for an application   or Visit United Way of Pipestone County's facebook page.\n\n\n\nApplications may be mailed to...\n\nUnited Way of Pipestone County\n\nPO Box 35\n\nPipestone\, MN 56164\n\n\n\nOur campaign goal for 2023 is $40\,000. With the exception of United Way fees and expenses\, all funds will be donated to local organizations.
X-ALT-DESC;FMTTYPE=text/html:<span style="box-sizing: border-box\; font-family: Montserrat\, sans-serif\; font-size: 16px\; background-color: rgb(255\, 255\, 255)\;"><span style="box-sizing: border-box\; font-size: 18px\;"><span style="color:#000000\;"><span class="d2edcug0 hpfvmrgz qv66sw1b c1et5uql rrkovp55 a8c37x1j keod5gw0 nxhoafnm aigsh9s9 d3f4x2em fe6kdd0r mau55g9w c8b282yb iv3no6db jq4qci2q a3bd9o3v knj5qynh oo9gr5id hzawbc8m" dir="auto" style="box-sizing: border-box\;">2023 United Way of Pipestone County Applications now available. Due the day before Thanksgiving.&nbsp\;</span><strong>Your request MUST be received by 5 pm on Wednesday\, November 22\, 2023</strong>. Applications may be dropped off at First Bank &amp\; Trust\, First Farmers &amp\; Merchants\, First State Bank SW\, or the Pipestone Area Chamber of Commerce. </span><strong><a href="https://chambermaster.blob.core.windows.net/userfiles/UserFiles/chambers/3499/File/2023ApplicationforUnitedWayofPipestoneCountyAllocations.pdf"><span style="color:#0000FF\;">Click HERE for an application</span></a><span style="color:#0000FF\;"> </span></strong><span style="color:#000000\;"><strong> </strong> or</span>&nbsp\;</span></span><a href="https://www.facebook.com/uwofpc"><span style="box-sizing: border-box\; font-weight: bolder\; color: rgb(85\, 85\, 85)\; font-family: Montserrat\, sans-serif\; font-size: 16px\; background-color: rgb(255\, 255\, 255)\;"><span style="box-sizing: border-box\; font-size: 18px\;"><span style="box-sizing: border-box\; color: rgb(0\, 0\, 255)\;">Visit United Way of Pipestone County&#39\;s facebook page</span></span></span></a><span style="box-sizing: border-box\; outline: 0px\; font-family: Montserrat\, sans-serif\; font-size: 16px\; background-color: rgb(255\, 255\, 255)\;"><span style="box-sizing: border-box\; outline: 0px\; font-size: 18px\;"><span style="color:#000000\;">.</span><br style="box-sizing: border-box\;" />\n<br style="box-sizing: border-box\;" />\nApplications may be mailed to...<br style="box-sizing: border-box\;" />\nUnited Way of Pipestone County<br style="box-sizing: border-box\;" />\nPO Box 35<br style="box-sizing: border-box\;" />\nPipestone\, MN 56164<br style="box-sizing: border-box\;" />\n<br style="box-sizing: border-box\;" />\nOur campaign goal for 2023 is $40\,000. With the exception of United Way fees and expenses\, all funds will be donated to local organizations.</span></span>
LOCATION:
UID:e.3499.1903
SEQUENCE:3
DTSTAMP:20260421T141057Z
URL:https://business.pipestoneminnesota.com/events/details/united-way-grant-deadline-1903
END:VEVENT

END:VCALENDAR
