BEGIN:VCALENDAR
VERSION:2.0
PRODID:-//ChamberMaster//Event Calendar 2.0//EN
METHOD:PUBLISH
X-PUBLISHED-TTL:P3D
REFRESH-INTERVAL:P3D
CALSCALE:GREGORIAN
BEGIN:VEVENT
DTSTART;VALUE=DATE:20200810
DTEND;VALUE=DATE:20200811
TRANSP:TRANSPARENT
X-MICROSOFT-CDO-ALLDAYEVENT:TRUE
SUMMARY:Water Tower Medallion Hunt Begins
DESCRIPTION:****UPDATE***\n\nAfter 4 full days of searching\, the 2020 Water Tower Medallion has been found!!! Congratulations to brothers from Sioux Center\, Iowa ~ Tyler Rozenboom (age 14) and Mason Rozenboom (age 10) ~ and their Grandma Wil Kas of Pipestone on finding the coveted Medallion and winning $100 in Pipestone Area Chamber Checks! Click to hear about their search #OnlyinPipestone. THANK YOU to EVERYONE who has been faithfully searching for days and having fun with their friends and families! And\, a special THANKS to our Ghost Writer this year who did a fantastic job with the clues!\n\n\n\n***\n\n\n\nLet the Hunt begin ...\n\n\n\nToday\, Monday (August 10th)\, the 2020 Water Tower Festival Medallion Hunt begins #OnlyinPipestone!\n\n\n\nIt's that time for all the super sleuths to find this year's Medallion for a chance to WIN $100 Pipestone Area Chamber Checks redeemable at any one of our approximately 150+ Chamber Member Businesses! If you find the Medallion\, bring it to the Pipestone Area Chamber of Commerce to claim your prize and take a photo! One clue per day until found somewhere on PUBLIC land in the City of Pipestone. Have Fun & Good Luck!\n\n\n\nClues will be given around 7am each morning on KLOH Radio 1050 AM\, on Pipestone County Star's Facebook page\, and on our Chamber's Facebook page.\n\n\n\nAnd here is CLUE #1:\n\n\n\nThe medallion's location\n\nWith some generalization\n\nResides around\n\nand is bound\n\nto our historic town.\n\n\n\nIf you're to succeed\,\n\nMake sure to take heed\n\nAnd hear each hint\n\ntinted with my whereabouts.\n\n\n\nClue #2:\n\nThere's something nearby\n\nThat seems to imply.\n\nYou are not where your predicted to be.\n\nTowering in history\, my whereabouts remain a mystery.\n\n \n\nIn order to succeed\,\n\nBe sure to take heed\n\nAnd follow each new lead.\n\n\n\nClue #3:\n\nAre the clues not quite squaring up?\n\nHere's an idea\n\nTake a stroll down and find the lights.\n\nI'm bound within the heights\,\n\nof many great sites.\n\n \n\nIn the center of this land\,\n\nmy location is grand.\n\n\n\nClue #4:\n\nAs the search keeps going\n\nThis clue will help knowing\n\nWhere the medallion hides.\n\n \n\nStares abound so be wise.\n\nDare not look them in the eyes.\n\nWith spies all around\,\n\nmy location is found\n\nnear the center of town.
X-ALT-DESC;FMTTYPE=text/html:<span aria-live="polite" class="fbPhotosPhotoCaption" data-ft="{" id="fbPhotoSnowliftCaption" tabindex="0">****UPDATE***</span><br />\n<span aria-live="polite" class="fbPhotosPhotoCaption" data-ft="{" tabindex="0">After 4 full days of searching\, <strong>the 2020 Water Tower Medallion has been found!!!</strong> <strong>Congratulations to brothers from Sioux Center\, Iowa ~ Tyler Rozenboom (age 14) and Mason Rozenboom (age 10) ~ and their Grandma Wil Kas of Pipestone on finding the coveted Medallion and winning $100 in Pipestone Area Chamber Checks!</strong> Click to hear about their search #OnlyinPipestone. THANK YOU to EVERYONE who has been faithfully searching for days and having fun with their friends and families! And\, a special THANKS to our Ghost Writer this year who did a fantastic job with the clues!<br />\n<br />\n***<br />\n<br />\nLet the Hunt begin ...<br />\n<br />\nToday\, Monday (August 10th)\, the 2020 Water Tower Festival Medallion Hunt begins <a class="_58cn" data-ft="{" href="https://www.facebook.com/hashtag/onlyinpipestone?__eep__=6&amp\;epa=HASHTAG">#OnlyinPipestone</a>!<br />\n<br />\nIt&rsquo\;s that time for all the super sleuths to find this year&rsquo\;s Medallion for a chance to WIN $100 Pipestone Area Chamber Checks redeemable at any one of our approximately 150+ Chamber Member Businesses! If you find the Medallion\, bring it to the Pipestone Area Chamber of Comme<span class="text_exposed_show">rce to claim your prize and take a photo! One clue per day until found somewhere on PUBLIC land in the City of Pipestone. Have Fun &amp\; Good Luck!</span></span><br />\n<br />\nClues will be given around 7am each morning on KLOH Radio 1050 AM\, on Pipestone County Star&rsquo\;s Facebook page\, and on our Chamber&rsquo\;s Facebook page.<br />\n<br />\nAnd here is <strong>CLUE #1</strong>:<br />\n<br />\n<em>The medallion&rsquo\;s location<br />\nWith some generalization<br />\nResides around<br />\nand is bound<br />\nto our historic town.<br />\n<br />\nIf you&rsquo\;re to succeed\,<br />\nMake sure to take heed<br />\nAnd hear each hint<br />\ntinted with my whereabouts.</em><br />\n<br />\n<strong>Clue #2:</strong><br />\n<em>There&rsquo\;s something nearby<br />\nThat seems to imply.<br />\nYou are not where your predicted to be.<br />\nTowering in history\, my whereabouts remain a mystery.<br />\n&nbsp\;<br />\nIn order to succeed\,<br />\nBe sure to take heed<br />\nAnd follow each new lead.</em><br />\n<br />\n<strong>Clue #3:</strong><br />\nAre the clues not quite squaring up?<br />\nHere&rsquo\;s an idea<br />\nTake a stroll down and find the lights.<br />\nI&rsquo\;m bound within the heights\,<br />\nof many great sites.<br />\n&nbsp\;<br />\nIn the center of this land\,<br />\nmy location is grand.<br />\n<br />\n<strong>Clue #4:</strong><br />\nAs the search keeps going<br />\nThis clue will help knowing<br />\nWhere the medallion hides.<br />\n&nbsp\;<br />\nStares abound so be wise.<br />\nDare not look them in the eyes.<br />\nWith spies all around\,<br />\nmy location is found<br />\nnear the center of town.<br />\n<br />\n<br />\n<br />\n&nbsp\;
LOCATION:
UID:e.3499.412
SEQUENCE:3
DTSTAMP:20260421T231809Z
URL:https://business.pipestoneminnesota.com/events/details/water-tower-medallion-hunt-begins-412
END:VEVENT

END:VCALENDAR
